Workbook

Sheet Sheet1
A1: types | B1: 任务ID | C1: 任务名 | D1: 任务类型 | F1: 奖励
B2: 1 | C2: 召集
B3: 10001 | C3: 拯救国度 | D3: 0 | E3: =VLOOKUP(B3,Sheet2!A:E,5,FALSE) -> 1
B4: 10101 | C4: 拯救国度 | D4: 0 | E4: =VLOOKUP(B4,Sheet2!A:E,5,FALSE) -> 1
B5: 10201 | C5: 拯救国度 | D5: 0 | E5: =VLOOKUP(B5,Sheet2!A:E,5,FALSE) -> 1
B6: 20001 | C6: 美丽的药品商 | D6: 0 | E6: =VLOOKUP(B6,Sheet2!A:E,5,FALSE) -> 2
B7: 20101 | C7: 美丽的药品商 | D7: 0 | E7: =VLOOKUP(B7,Sheet2!A:E,5,FALSE) -> 2
B8: 20201 | C8: 美丽的药品商 | D8: 0 | E8: =VLOOKUP(B8,Sheet2!A:E,5,FALSE) -> 2
B9: 30001 | C9: 仓库使者 | D9: 0 | E9: =VLOOKUP(B9,Sheet2!A:E,5,FALSE) -> 3
B10: 30101 | C10: 仓库使者 | D10: 0 | E10: =VLOOKUP(B10,Sheet2!A:E,5,FALSE) -> 3
B11: 30201 | C11: 仓库使者 | D11: 0 | E11: =VLOOKUP(B11,Sheet2!A:E,5,FALSE) -> 3
B12: 40001 | C12: 回归 | D12: 0 | E12: =VLOOKUP(B12,Sheet2!A:E,5,FALSE) -> 4
B13: 40101 | C13: 回归 | D13: 0 | E13: =VLOOKUP(B13,Sheet2!A:E,5,FALSE) -> 4
B14: 40201 | C14: 回归 | D14: 0 | E14: =VLOOKUP(B14,Sheet2!A:E,5,FALSE) -> 4
... B53: 190201 | C53: 解除威胁 | D53: 0 | E53: =VLOOKUP(B53,Sheet2!A:E,5,FALSE) -> 18
B54: 180001 | C54: 凯旋归来 | D54: 0 | E54: =VLOOKUP(B54,Sheet2!A:E,5,FALSE) -> 20 | F54: VIP体验
B55: 180101 | C55: 凯旋归来 | D55: 0 | E55: =VLOOKUP(B55,Sheet2!A:E,5,FALSE) -> 20 | F55: VIP体验
B56: 180201 | C56: 凯旋归来 | D56: 0 | E56: =VLOOKUP(B56,Sheet2!A:E,5,FALSE) -> 20 | F56: VIP体验
B57: 200001 | C57: [冰封之章] | D57: 0 | E57: =VLOOKUP(B57,Sheet2!A:E,5,FALSE) -> 20 | F57: 护手 | G57: 护手
B58: 200101 | C58: [冰封之章] | D58: 0 | E58: =VLOOKUP(B58,Sheet2!A:E,5,FALSE) -> 20 | F58: 护手 | G58: 护手
B59: 200201 | C59: [冰封之章] | D59: 0 | E59: =VLOOKUP(B59,Sheet2!A:E,5,FALSE) -> 20 | F59: 护手 | G59: 护手
B60: 210001 | C60: 寻找知情人 | D60: 0 | E60: =VLOOKUP(B60,Sheet2!A:E,5,FALSE) -> 21 | F60: 靴子 | G60: 靴子
B61: 210101 | C61: 寻找知情人 | D61: 0 | E61: =VLOOKUP(B61,Sheet2!A:E,5,FALSE) -> 21 | F61: 靴子 | G61: 靴子
B62: 210201 | C62: 寻找知情人 | D62: 0 | E62: =VLOOKUP(B62,Sheet2!A:E,5,FALSE) -> 21 | F62: 靴子 | G62: 靴子
B63: 220001 | C63: 怪物的毛皮 | D63: 0 | E63: =VLOOKUP(B63,Sheet2!A:E,5,FALSE) -> 22 | F63: 盔 | G63: 盔
B64: 220101 | C64: 怪物的毛皮 | D64: 0 | E64: =VLOOKUP(B64,Sheet2!A:E,5,FALSE) -> 22 | F64: 盔 | G64: 盔
B65: 220201 | C65: 怪物的毛皮 | D65: 0 | E65: =VLOOKUP(B65,Sheet2!A:E,5,FALSE) -> 22 | F65: 盔 | G65: 盔
B66: 230001 | C66: 最弱的手下 | D66: 0 | E66: =VLOOKUP(B66,Sheet2!A:E,5,FALSE) -> 23 | F66: 护腿 | G66: 护腿
B67: 230101 | C67: 最弱的手下 | D67: 0 | E67: =VLOOKUP(B67,Sheet2!A:E,5,FALSE) -> 23 | F67: 护腿 | G67: 护腿
B68: 230201 | C68: 最弱的手下 | D68: 0 | E68: =VLOOKUP(B68,Sheet2!A:E,5,FALSE) -> 23 | F68: 护腿 | G68: 护腿
... B71: 240201 | C71: 怪癖好 | D71: 0 | E71: =VLOOKUP(B71,Sheet2!A:E,5,FALSE) -> 24 | F71: 铠 | G71: 铠
B72: 250001 | C72: 击退外敌 | D72: 0 | E72: =VLOOKUP(B72,Sheet2!A:E,5,FALSE) -> 25
B73: 250002 | C73: 幻兽的饵料 | D73: 0 | E73: =VLOOKUP(B73,Sheet2!A:E,5,FALSE) -> 25
B74: 270001 | C74: 第二件物品 | D74: 0 | E74: =VLOOKUP(B74,Sheet2!A:E,5,FALSE) -> 26
B75: 280001 | C75: 讨厌鬼巴金斯 | D75: 0 | E75: =VLOOKUP(B75,Sheet2!A:E,5,FALSE) -> 26
B76: 420001 | C76: 惩罚 | D76: 0 | E76: =VLOOKUP(B76,Sheet2!A:E,5,FALSE) -> 26
B77: 310001 | C77: 天使的恩惠 | D77: 0 | E77: =VLOOKUP(B77,Sheet2!A:E,5,FALSE) -> 27
B78: 380001 | C78: 霜炎 | D78: 0 | E78: =VLOOKUP(B78,Sheet2!A:E,5,FALSE) -> 28
B79: 390001 | C79: 生命结晶 | D79: 0 | E79: =VLOOKUP(B79,Sheet2!A:E,5,FALSE) -> 29
B80: 400001 | C80: 反攻 | D80: 0 | E80: =VLOOKUP(B80,Sheet2!A:E,5,FALSE) -> 29 | F80: 双自由通行证
...

Sheet Sheet2
A1: 1 | B1: 召集 | C1: 5 | D1: 11005 | E1: 1
A2: 100 | B2: 卓越掉落 | C2: 12 | D2: 11003 | E2: 1
A3: 101 | B3: 卓越掉落 | C3: 12 | D3: 11003 | E3: 1
A4: 102 | B4: 卓越掉落 | C4: 12 | D4: 11003 | E4: 1
A5: 200 | B5: 祝福掉落（一） | C5: 12 | D5: 11043 | E5: 1
A6: 201 | B6: 祝福掉落（一） | C6: 12 | D6: 11044 | E6: 1
A7: 202 | B7: 祝福掉落（一） | C7: 12 | D7: 11045 | E7: 1
A8: 300 | B8: 坐骑开启 | C8: 12 | D8: 11003 | E8: 16
A9: 500 | B9: 封测补偿 | C9: 15 | D9: 11031 | E9: 1
A10: 1000 | B10: 维伊克的武器 | C10: 4 | D10: 11039 | E10: 50
A11: 2000 | B11: 冰原救急[一] | C11: 7 | D11: 11008 | E11: 1
A12: 2001 | B12: 冰原救急[二] | C12: 7 | D12: 11058 | E12: 1
... A259: 2040000 | B259: 深渊的尽头 | C259: 0 | D259: 11075 | E259: 330

Sheet Sheet3
A1: 101 | B1: 木桩
A2: 1000 | B2: 召唤兽哥布林
A3: 1001 | B3: 召唤兽石巨人
A4: 1002 | B4: 召唤兽暗影者
A5: 1003 | B5: 召唤兽雪人王
A6: 1004 | B6: 召唤兽邪灵骑士
A7: 1005 | B7: 召唤兽巴里
A8: 1006 | B8: 召唤兽魔巨人
A9: 1007 | B9: 火龙
A10: 1008 | B10: 火龙
A11: 1009 | B11: 火龙
A12: 1010 | B12: 火龙
... A626: 11141 | B626: 牛X送礼大使
A627: 11142 | B627: 10
A628: 11143 | B628: 11
A629: 11144 | B629: 12
A630: 11145 | B630: 13
A631: 20000 | B631: 大观园-蛛蛛
A632: 20001 | B632: 大观园-幼龙
A633: 20002 | B633: 大观园-牛头怪
A634: 20003 | B634: 大观园-猎犬怪
A635: 20004 | B635: 大观园-黑巫师
A636: 20005 | B636: 大观园-蛮牛怪
A637: 20006 | B637: 大观园-巨人
A638: 20007 | B638: 大观园-骷髅兵
A639: 20008 | B639: 大观园-强化骷髅兵
A640: 20009 | B640: 大观园-骷髅王
A641: 20010 | B641: 大观园-小哥布林
A642: 20011 | B642: 大观园-勾尾蝎
... A1070: 56099 | B1070: 诅咒之王(史诗)

Sheet Sheet4
A1: 530002 | B1: 对话 | C1: =IF(ISERROR(VLOOKUP(A1,Sheet1!B:C,2,FALSE)),B1,VLOOKUP(A1,Sheet1!B:C,2,FALSE)) -> 乐于助人 | E1: =IF(ISERROR(VLOOKUP(A1,Sheet1!B:K,10,FALSE)),D1,VLOOKUP(A1,Sheet1!B:K,10,FALSE)) -> 11047
A2: 540001 | B2: 采集1 | C2: =IF(ISERROR(VLOOKUP(A2,Sheet1!B:C,2,FALSE)),B2,VLOOKUP(A2,Sheet1!B:C,2,FALSE)) -> 清除毒素 | E2: =IF(ISERROR(VLOOKUP(A2,Sheet1!B:K,10,FALSE)),D2,VLOOKUP(A2,Sheet1!B:K,10,FALSE)) -> 11047
A3: 540002 | B3: 收集物品1 | C3: =IF(ISERROR(VLOOKUP(A3,Sheet1!B:C,2,FALSE)),B3,VLOOKUP(A3,Sheet1!B:C,2,FALSE)) -> 腐虫骸酒 | E3: =IF(ISERROR(VLOOKUP(A3,Sheet1!B:K,10,FALSE)),D3,VLOOKUP(A3,Sheet1!B:K,10,FALSE)) -> 11047
A4: 550001 | B4: 对话 | C4: =IF(ISERROR(VLOOKUP(A4,Sheet1!B:C,2,FALSE)),B4,VLOOKUP(A4,Sheet1!B:C,2,FALSE)) -> 送信 | E4: =IF(ISERROR(VLOOKUP(A4,Sheet1!B:K,10,FALSE)),D4,VLOOKUP(A4,Sheet1!B:K,10,FALSE)) -> 11047
A5: 550002 | B5: 收集物品2 | C5: =IF(ISERROR(VLOOKUP(A5,Sheet1!B:C,2,FALSE)),B5,VLOOKUP(A5,Sheet1!B:C,2,FALSE)) -> 神秘力量一 | E5: =IF(ISERROR(VLOOKUP(A5,Sheet1!B:K,10,FALSE)),D5,VLOOKUP(A5,Sheet1!B:K,10,FALSE)) -> 11060
A6: 501002 | B6: 浮灵的怨念 | C6: =IF(ISERROR(VLOOKUP(A6,Sheet1!B:C,2,FALSE)),B6,VLOOKUP(A6,Sheet1!B:C,2,FALSE)) -> 浮灵的怨念 | D6: 11060 | E6: =IF(ISERROR(VLOOKUP(A6,Sheet1!B:K,10,FALSE)),D6,VLOOKUP(A6,Sheet1!B:K,10,FALSE)) -> 11060
A7: 560001 | B7: 对话 | C7: =IF(ISERROR(VLOOKUP(A7,Sheet1!B:C,2,FALSE)),B7,VLOOKUP(A7,Sheet1!B:C,2,FALSE)) -> 回信 | E7: =IF(ISERROR(VLOOKUP(A7,Sheet1!B:K,10,FALSE)),D7,VLOOKUP(A7,Sheet1!B:K,10,FALSE)) -> 11060
A8: 560002 | B8: 收集物品3 | C8: =IF(ISERROR(VLOOKUP(A8,Sheet1!B:C,2,FALSE)),B8,VLOOKUP(A8,Sheet1!B:C,2,FALSE)) -> 神秘力量二 | E8: =IF(ISERROR(VLOOKUP(A8,Sheet1!B:K,10,FALSE)),D8,VLOOKUP(A8,Sheet1!B:K,10,FALSE)) -> 11047
A9: 570001 | B9: 对话 | C9: =IF(ISERROR(VLOOKUP(A9,Sheet1!B:C,2,FALSE)),B9,VLOOKUP(A9,Sheet1!B:C,2,FALSE)) -> 访问专家 | E9: =IF(ISERROR(VLOOKUP(A9,Sheet1!B:K,10,FALSE)),D9,VLOOKUP(A9,Sheet1!B:K,10,FALSE)) -> 11060
A10: 570002 | B10: 收集物品4 | C10: =IF(ISERROR(VLOOKUP(A10,Sheet1!B:C,2,FALSE)),B10,VLOOKUP(A10,Sheet1!B:C,2,FALSE)) -> 神秘力量三 | E10: =IF(ISERROR(VLOOKUP(A10,Sheet1!B:K,10,FALSE)),D10,VLOOKUP(A10,Sheet1!B:K,10,FALSE)) -> 11061
A11: 580001 | B11: 采集2 | C11: =IF(ISERROR(VLOOKUP(A11,Sheet1!B:C,2,FALSE)),B11,VLOOKUP(A11,Sheet1!B:C,2,FALSE)) -> 采集矿石 | E11: =IF(ISERROR(VLOOKUP(A11,Sheet1!B:K,10,FALSE)),D11,VLOOKUP(A11,Sheet1!B:K,10,FALSE)) -> 11060
A12: 590001 | B12: 对话 | C12: =IF(ISERROR(VLOOKUP(A12,Sheet1!B:C,2,FALSE)),B12,VLOOKUP(A12,Sheet1!B:C,2,FALSE)) -> 矮人之力 | E12: =IF(ISERROR(VLOOKUP(A12,Sheet1!B:K,10,FALSE)),D12,VLOOKUP(A12,Sheet1!B:K,10,FALSE)) -> 11060
A13: 521001 | B13: 回礼 | C13: =IF(ISERROR(VLOOKUP(A13,Sheet1!B:C,2,FALSE)),B13,VLOOKUP(A13,Sheet1!B:C,2,FALSE)) -> 回礼 | D13: 11061 | E13: =IF(ISERROR(VLOOKUP(A13,Sheet1!B:K,10,FALSE)),D13,VLOOKUP(A13,Sheet1!B:K,10,FALSE)) -> 11061
A14: 600002 | B14: 烦人的恶魔 | C14: =IF(ISERROR(VLOOKUP(A14,Sheet1!B:C,2,FALSE)),B14,VLOOKUP(A14,Sheet1!B:C,2,FALSE)) -> 烦人的恶魔 | D14: 11061 | E14: 11061
A15: 610001 | B15: 摆脱眼线 | C15: =IF(ISERROR(VLOOKUP(A15,Sheet1!B:C,2,FALSE)),B15,VLOOKUP(A15,Sheet1!B:C,2,FALSE)) -> 摆脱眼线 | D15: 11048 | E15: 11048
A16: 610002 | B16: 对话 | C16: =IF(ISERROR(VLOOKUP(A16,Sheet1!B:C,2,FALSE)),B16,VLOOKUP(A16,Sheet1!B:C,2,FALSE)) -> 历练 | E16: =IF(ISERROR(VLOOKUP(A16,Sheet1!B:K,10,FALSE)),D16,VLOOKUP(A16,Sheet1!B:K,10,FALSE)) -> 11062
A17: 610003 | B17: 采集3 | C17: =IF(ISERROR(VLOOKUP(A17,Sheet1!B:C,2,FALSE)),B17,VLOOKUP(A17,Sheet1!B:C,2,FALSE)) -> 请教 | E17: =IF(ISERROR(VLOOKUP(A17,Sheet1!B:K,10,FALSE)),D17,VLOOKUP(A17,Sheet1!B:K,10,FALSE)) -> 11062
A18: 610004 | B18: 对话 | C18: =IF(ISERROR(VLOOKUP(A18,Sheet1!B:C,2,FALSE)),B18,VLOOKUP(A18,Sheet1!B:C,2,FALSE)) -> 初步历练 | E18: =IF(ISERROR(VLOOKUP(A18,Sheet1!B:K,10,FALSE)),D18,VLOOKUP(A18,Sheet1!B:K,10,FALSE)) -> 11048
A19: 610005 | B19: 收集物品1 | C19: =IF(ISERROR(VLOOKUP(A19,Sheet1!B:C,2,FALSE)),B19,VLOOKUP(A19,Sheet1!B:C,2,FALSE)) -> 暗狱盾牌 | E19: =IF(ISERROR(VLOOKUP(A19,Sheet1!B:K,10,FALSE)),D19,VLOOKUP(A19,Sheet1!B:K,10,FALSE)) -> 11062
A20: 610006 | B20: 对话 | C20: =IF(ISERROR(VLOOKUP(A20,Sheet1!B:C,2,FALSE)),B20,VLOOKUP(A20,Sheet1!B:C,2,FALSE)) -> 布洛的证明 | E20: =IF(ISERROR(VLOOKUP(A20,Sheet1!B:K,10,FALSE)),D20,VLOOKUP(A20,Sheet1!B:K,10,FALSE)) -> 11048
A21: 610007 | B21: 收集物品2 | C21: =IF(ISERROR(VLOOKUP(A21,Sheet1!B:C,2,FALSE)),B21,VLOOKUP(A21,Sheet1!B:C,2,FALSE)) -> 二次历练 | E21: =IF(ISERROR(VLOOKUP(A21,Sheet1!B:K,10,FALSE)),D21,VLOOKUP(A21,Sheet1!B:K,10,FALSE)) -> 11062
A22: 610008 | B22: 对话 | C22: =IF(ISERROR(VLOOKUP(A22,Sheet1!B:C,2,FALSE)),B22,VLOOKUP(A22,Sheet1!B:C,2,FALSE)) -> 回报消息 | E22: =IF(ISERROR(VLOOKUP(A22,Sheet1!B:K,10,FALSE)),D22,VLOOKUP(A22,Sheet1!B:K,10,FALSE)) -> 11062
A23: 620001 | B23: 胆小鬼布洛 | C23: =IF(ISERROR(VLOOKUP(A23,Sheet1!B:C,2,FALSE)),B23,VLOOKUP(A23,Sheet1!B:C,2,FALSE)) -> 胆小鬼布洛 | D23: 11062 | E23: 11062
A24: 551001 | B24: 剑士迭戈 | C24: =IF(ISERROR(VLOOKUP(A24,Sheet1!B:C,2,FALSE)),B24,VLOOKUP(A24,Sheet1!B:C,2,FALSE)) -> 剑士迭戈 | D24: 11062 | E24: 11062
A25: 630001 | B25: 巫师的臂章 | C25: =IF(ISERROR(VLOOKUP(A25,Sheet1!B:C,2,FALSE)),B25,VLOOKUP(A25,Sheet1!B:C,2,FALSE)) -> 巫师的臂章 | D25: 11062 | E25: 11062
A26: 630002 | B26: 对话 | C26: =IF(ISERROR(VLOOKUP(A26,Sheet1!B:C,2,FALSE)),B26,VLOOKUP(A26,Sheet1!B:C,2,FALSE)) -> 振作 | E26: =IF(ISERROR(VLOOKUP(A26,Sheet1!B:K,10,FALSE)),D26,VLOOKUP(A26,Sheet1!B:K,10,FALSE)) -> 11048
A27: 630003 | B27: 收集物品1 | C27: =IF(ISERROR(VLOOKUP(A27,Sheet1!B:C,2,FALSE)),B27,VLOOKUP(A27,Sheet1!B:C,2,FALSE)) -> 傀儡之斧 | E27: =IF(ISERROR(VLOOKUP(A27,Sheet1!B:K,10,FALSE)),D27,VLOOKUP(A27,Sheet1!B:K,10,FALSE)) -> 11062
A28: 630004 | B28: 对话 | C28: =IF(ISERROR(VLOOKUP(A28,Sheet1!B:C,2,FALSE)),B28,VLOOKUP(A28,Sheet1!B:C,2,FALSE)) -> 询问原因 | E28: =IF(ISERROR(VLOOKUP(A28,Sheet1!B:K,10,FALSE)),D28,VLOOKUP(A28,Sheet1!B:K,10,FALSE)) -> 11048
A29: 630005 | B29: 采集4 | C29: =IF(ISERROR(VLOOKUP(A29,Sheet1!B:C,2,FALSE)),B29,VLOOKUP(A29,Sheet1!B:C,2,FALSE)) -> 不灭战魂 | E29: =IF(ISERROR(VLOOKUP(A29,Sheet1!B:K,10,FALSE)),D29,VLOOKUP(A29,Sheet1!B:K,10,FALSE)) -> 11048
A30: 630006 | B30: 对话 | C30: =IF(ISERROR(VLOOKUP(A30,Sheet1!B:C,2,FALSE)),B30,VLOOKUP(A30,Sheet1!B:C,2,FALSE)) -> 鼓励布洛 | E30: =IF(ISERROR(VLOOKUP(A30,Sheet1!B:K,10,FALSE)),D30,VLOOKUP(A30,Sheet1!B:K,10,FALSE)) -> 11062
A31: 630007 | B31: 收集物品2 | C31: =IF(ISERROR(VLOOKUP(A31,Sheet1!B:C,2,FALSE)),B31,VLOOKUP(A31,Sheet1!B:C,2,FALSE)) -> 魔杖收藏 | E31: =IF(ISERROR(VLOOKUP(A31,Sheet1!B:K,10,FALSE)),D31,VLOOKUP(A31,Sheet1!B:K,10,FALSE)) -> 11062
A32: 630008 | B32: 对话 | C32: =IF(ISERROR(VLOOKUP(A32,Sheet1!B:C,2,FALSE)),B32,VLOOKUP(A32,Sheet1!B:C,2,FALSE)) -> 最后的历练 | E32: =IF(ISERROR(VLOOKUP(A32,Sheet1!B:K,10,FALSE)),D32,VLOOKUP(A32,Sheet1!B:K,10,FALSE)) -> 11062
A33: 630009 | B33: 打怪 | C33: =IF(ISERROR(VLOOKUP(A33,Sheet1!B:C,2,FALSE)),B33,VLOOKUP(A33,Sheet1!B:C,2,FALSE)) -> 实力证明 | E33: =IF(ISERROR(VLOOKUP(A33,Sheet1!B:K,10,FALSE)),D33,VLOOKUP(A33,Sheet1!B:K,10,FALSE)) -> 11063
A34: 640001 | B34: 臂章的来历 | C34: =IF(ISERROR(VLOOKUP(A34,Sheet1!B:C,2,FALSE)),B34,VLOOKUP(A34,Sheet1!B:C,2,FALSE)) -> 臂章的来历 | D34: 11063 | E34: 11063
A35: 650001 | B35: 继续调查 | C35: =IF(ISERROR(VLOOKUP(A35,Sheet1!B:C,2,FALSE)),B35,VLOOKUP(A35,Sheet1!B:C,2,FALSE)) -> 继续调查 | D35: 11063 | E35: 11063
A36: 650002 | B36: 线索 | C36: =IF(ISERROR(VLOOKUP(A36,Sheet1!B:C,2,FALSE)),B36,VLOOKUP(A36,Sheet1!B:C,2,FALSE)) -> 线索 | D36: 11063 | E36: 11063
A37: 660001 | B37: 皇子 | C37: =IF(ISERROR(VLOOKUP(A37,Sheet1!B:C,2,FALSE)),B37,VLOOKUP(A37,Sheet1!B:C,2,FALSE)) -> 皇子 | D37: 11031 | E37: 11031
A38: 660002 | B38: 收集物品 | C38: =IF(ISERROR(VLOOKUP(A38,Sheet1!B:C,2,FALSE)),B38,VLOOKUP(A38,Sheet1!B:C,2,FALSE)) -> 见面礼 | E38: =IF(ISERROR(VLOOKUP(A38,Sheet1!B:K,10,FALSE)),D38,VLOOKUP(A38,Sheet1!B:K,10,FALSE)) -> 11063
A39: 670001 | B39: 魔皇护卫 | C39: =IF(ISERROR(VLOOKUP(A39,Sheet1!B:C,2,FALSE)),B39,VLOOKUP(A39,Sheet1!B:C,2,FALSE)) -> 魔皇护卫 | D39: 11049 | E39: 11049
A40: 700001 | B40: [深海之章] | C40: =IF(ISERROR(VLOOKUP(A40,Sheet1!B:C,2,FALSE)),B40,VLOOKUP(A40,Sheet1!B:C,2,FALSE)) -> [深海之章] | D40: 11031 | E40: 11031
...
