Workbook

Sheet Sheet1
A1: types | B1: 任务ID | C1: 任务名 | D1: 任务类型 | F1: 奖励
B2: 1 | C2: 召集
B3: 10001 | C3: 拯救国度 | D3: 0 | E3: =VLOOKUP(B3,Sheet2!A:E,5,FALSE) -> 1
B4: 10101 | C4: 拯救国度 | D4: 0 | E4: =VLOOKUP(B4,Sheet2!A:E,5,FALSE) -> 1
B5: 10201 | C5: 拯救国度 | D5: 0 | E5: =VLOOKUP(B5,Sheet2!A:E,5,FALSE) -> 1
B6: 20001 | C6: 美丽的药品商 | D6: 0 | E6: =VLOOKUP(B6,Sheet2!A:E,5,FALSE) -> 2
B7: 20101 | C7: 美丽的药品商 | D7: 0 | E7: =VLOOKUP(B7,Sheet2!A:E,5,FALSE) -> 2
B8: 20201 | C8: 美丽的药品商 | D8: 0 | E8: =VLOOKUP(B8,Sheet2!A:E,5,FALSE) -> 2
B9: 30001 | C9: 仓库使者 | D9: 0 | E9: =VLOOKUP(B9,Sheet2!A:E,5,FALSE) -> 3
B10: 30101 | C10: 仓库使者 | D10: 0 | E10: =VLOOKUP(B10,Sheet2!A:E,5,FALSE) -> 3
B11: 30201 | C11: 仓库使者 | D11: 0 | E11: =VLOOKUP(B11,Sheet2!A:E,5,FALSE) -> 3
B12: 40001 | C12: 回归 | D12: 0 | E12: =VLOOKUP(B12,Sheet2!A:E,5,FALSE) -> 4
B13: 40101 | C13: 回归 | D13: 0 | E13: =VLOOKUP(B13,Sheet2!A:E,5,FALSE) -> 4
B14: 40201 | C14: 回归 | D14: 0 | E14: =VLOOKUP(B14,Sheet2!A:E,5,FALSE) -> 4
... B53: 190201 | C53: 解除威胁 | D53: 0 | E53: =VLOOKUP(B53,Sheet2!A:E,5,FALSE) -> 18
B54: 180001 | C54: 凯旋归来 | D54: 0 | E54: =VLOOKUP(B54,Sheet2!A:E,5,FALSE) -> 20 | F54: VIP体验
B55: 180101 | C55: 凯旋归来 | D55: 0 | E55: =VLOOKUP(B55,Sheet2!A:E,5,FALSE) -> 20 | F55: VIP体验
B56: 180201 | C56: 凯旋归来 | D56: 0 | E56: =VLOOKUP(B56,Sheet2!A:E,5,FALSE) -> 20 | F56: VIP体验
B57: 200001 | C57: [冰封之章] | D57: 0 | E57: =VLOOKUP(B57,Sheet2!A:E,5,FALSE) -> 20 | F57: 护手 | G57: 护手
B58: 200101 | C58: [冰封之章] | D58: 0 | E58: =VLOOKUP(B58,Sheet2!A:E,5,FALSE) -> 20 | F58: 护手 | G58: 护手
B59: 200201 | C59: [冰封之章] | D59: 0 | E59: =VLOOKUP(B59,Sheet2!A:E,5,FALSE) -> 20 | F59: 护手 | G59: 护手
B60: 210001 | C60: 寻找知情人 | D60: 0 | E60: =VLOOKUP(B60,Sheet2!A:E,5,FALSE) -> 21 | F60: 靴子 | G60: 靴子
B61: 210101 | C61: 寻找知情人 | D61: 0 | E61: =VLOOKUP(B61,Sheet2!A:E,5,FALSE) -> 21 | F61: 靴子 | G61: 靴子
B62: 210201 | C62: 寻找知情人 | D62: 0 | E62: =VLOOKUP(B62,Sheet2!A:E,5,FALSE) -> 21 | F62: 靴子 | G62: 靴子
B63: 220001 | C63: 怪物的毛皮 | D63: 0 | E63: =VLOOKUP(B63,Sheet2!A:E,5,FALSE) -> 22 | F63: 盔 | G63: 盔
B64: 220101 | C64: 怪物的毛皮 | D64: 0 | E64: =VLOOKUP(B64,Sheet2!A:E,5,FALSE) -> 22 | F64: 盔 | G64: 盔
B65: 220201 | C65: 怪物的毛皮 | D65: 0 | E65: =VLOOKUP(B65,Sheet2!A:E,5,FALSE) -> 22 | F65: 盔 | G65: 盔
B66: 230001 | C66: 最弱的手下 | D66: 0 | E66: =VLOOKUP(B66,Sheet2!A:E,5,FALSE) -> 23 | F66: 护腿 | G66: 护腿
B67: 230101 | C67: 最弱的手下 | D67: 0 | E67: =VLOOKUP(B67,Sheet2!A:E,5,FALSE) -> 23 | F67: 护腿 | G67: 护腿
B68: 230201 | C68: 最弱的手下 | D68: 0 | E68: =VLOOKUP(B68,Sheet2!A:E,5,FALSE) -> 23 | F68: 护腿 | G68: 护腿
... B71: 240201 | C71: 怪癖好 | D71: 0 | E71: =VLOOKUP(B71,Sheet2!A:E,5,FALSE) -> 24 | F71: 铠 | G71: 铠
B72: 250001 | C72: 击退外敌 | D72: 0 | E72: =VLOOKUP(B72,Sheet2!A:E,5,FALSE) -> 25
B73: 250002 | C73: 幻兽的饵料 | D73: 0 | E73: =VLOOKUP(B73,Sheet2!A:E,5,FALSE) -> 25
B74: 270001 | C74: 第二件物品 | D74: 0 | E74: =VLOOKUP(B74,Sheet2!A:E,5,FALSE) -> 26
B75: 280001 | C75: 讨厌鬼巴金斯 | D75: 0 | E75: =VLOOKUP(B75,Sheet2!A:E,5,FALSE) -> 26
B76: 420001 | C76: 惩罚 | D76: 0 | E76: =VLOOKUP(B76,Sheet2!A:E,5,FALSE) -> 26
B77: 310001 | C77: 天使的恩惠 | D77: 0 | E77: =VLOOKUP(B77,Sheet2!A:E,5,FALSE) -> 27
B78: 380001 | C78: 霜炎 | D78: 0 | E78: =VLOOKUP(B78,Sheet2!A:E,5,FALSE) -> 28
B79: 390001 | C79: 生命结晶 | D79: 0 | E79: =VLOOKUP(B79,Sheet2!A:E,5,FALSE) -> 29
B80: 400001 | C80: 反攻 | D80: 0 | E80: =VLOOKUP(B80,Sheet2!A:E,5,FALSE) -> 29 | F80: 双自由通行证
B81: 400002 | C81: 极冰诅咒 | D81: 0 | E81: =VLOOKUP(B81,Sheet2!A:E,5,FALSE) -> 30
B82: 400003 | C82: 好消息 | D82: 0 | E82: =VLOOKUP(B82,Sheet2!A:E,5,FALSE) -> 31
B83: 410001 | C83: [熔岩之章] | D83: 0 | E83: 31
B84: 500001 | C84: 毒液 | D84: 0 | E84: =VLOOKUP(B84,Sheet2!A:E,5,FALSE) -> 31 | I84: 128 | J84: =IF(ISERROR(VLOOKUP(I84,Sheet3!A:B,2,FALSE)),"",VLOOKUP(I84,Sheet3!A:B,2,FALSE)) -> 腐虫
B85: 510001 | C85: 解毒配方 | D85: 0 | E85: =VLOOKUP(B85,Sheet2!A:E,5,FALSE) -> 32 | I85: 129 | J85: =IF(ISERROR(VLOOKUP(I85,Sheet3!A:B,2,FALSE)),"",VLOOKUP(I85,Sheet3!A:B,2,FALSE)) -> 独眼侏儒
B86: 520001 | C86: 十万火急 | D86: 0 | E86: =VLOOKUP(B86,Sheet2!A:E,5,FALSE) -> 33 | I86: 130 | J86: =IF(ISERROR(VLOOKUP(I86,Sheet3!A:B,2,FALSE)),"",VLOOKUP(I86,Sheet3!A:B,2,FALSE)) -> 浮灵
B87: 530001 | C87: 反击 | D87: 0 | E87: =VLOOKUP(B87,Sheet2!A:E,5,FALSE) -> 34 | G87: 36级完成任务 | H87: 请先升到45级 | I87: 131 | J87: =IF(ISERROR(VLOOKUP(I87,Sheet3!A:B,2,FALSE)),"",VLOOKUP(I87,Sheet3!A:B,2,FALSE)) -> 傀儡弓箭手
A88: 1 | B88: 530002 | C88: 乐于助人 | D88: 0 | E88: 35 | J88: =IF(ISERROR(VLOOKUP(I88,Sheet3!A:B,2,FALSE)),"",VLOOKUP(I88,Sheet3!A:B,2,FALSE)) | K88: 11047
A89: 1 | B89: 540001 | C89: 清除毒素 | D89: 0 | E89: 36 | G89: 中毒的小女孩 | J89: =IF(ISERROR(VLOOKUP(I89,Sheet3!A:B,2,FALSE)),"",VLOOKUP(I89,Sheet3!A:B,2,FALSE)) | K89: 11047
A90: 1 | B90: 540002 | C90: 腐虫骸酒 | D90: 0 | E90: 37 | I90: 128 | J90: =IF(ISERROR(VLOOKUP(I90,Sheet3!A:B,2,FALSE)),"",VLOOKUP(I90,Sheet3!A:B,2,FALSE)) -> 腐虫 | K90: 11047
A91: 1 | B91: 550001 | C91: 送信 | D91: 0 | E91: 38 | J91: =IF(ISERROR(VLOOKUP(I91,Sheet3!A:B,2,FALSE)),"",VLOOKUP(I91,Sheet3!A:B,2,FALSE)) | K91: 11047
A92: 1 | B92: 550002 | C92: 神秘力量一 | D92: 0 | E92: 39 | F92: 武器 | I92: 129 | J92: =IF(ISERROR(VLOOKUP(I92,Sheet3!A:B,2,FALSE)),"",VLOOKUP(I92,Sheet3!A:B,2,FALSE)) -> 独眼侏儒 | K92: 11060
A93: 1 | B93: 560001 | C93: 回信 | D93: 0 | E93: 40 | F93: 背叛者+5XY | J93: =IF(ISERROR(VLOOKUP(I93,Sheet3!A:B,2,FALSE)),"",VLOOKUP(I93,Sheet3!A:B,2,FALSE)) | K93: 11060
A94: 1 | B94: 560002 | C94: 神秘力量二 | D94: 0 | E94: 41 | F94: 巨人弩+5XY | I94: 130 | J94: =IF(ISERROR(VLOOKUP(I94,Sheet3!A:B,2,FALSE)),"",VLOOKUP(I94,Sheet3!A:B,2,FALSE)) -> 浮灵 | K94: 11047
A95: 1 | B95: 570001 | C95: 访问专家 | D95: 0 | E95: 42 | F95: 毒蛇杖+5XY | J95: =IF(ISERROR(VLOOKUP(I95,Sheet3!A:B,2,FALSE)),"",VLOOKUP(I95,Sheet3!A:B,2,FALSE)) | K95: 11060
A96: 1 | B96: 570002 | C96: 神秘力量三 | D96: 0 | E96: 43 | I96: 131 | J96: =IF(ISERROR(VLOOKUP(I96,Sheet3!A:B,2,FALSE)),"",VLOOKUP(I96,Sheet3!A:B,2,FALSE)) -> 傀儡弓箭手 | K96: 11061
A97: 1 | B97: 580001 | C97: 采集矿石 | D97: 0 | E97: 44 | G97: 地下矿石 | J97: =IF(ISERROR(VLOOKUP(I97,Sheet3!A:B,2,FALSE)),"",VLOOKUP(I97,Sheet3!A:B,2,FALSE)) | K97: 11060
A98: 1 | B98: 590001 | C98: 矮人之力 | D98: 0 | E98: 45 | J98: =IF(ISERROR(VLOOKUP(I98,Sheet3!A:B,2,FALSE)),"",VLOOKUP(I98,Sheet3!A:B,2,FALSE)) | K98: 11060
B99: 600002 | C99: 烦人的恶魔 | D99: 0 | E99: =VLOOKUP(B99,Sheet2!A:E,5,FALSE) -> 46 | I99: 132 | J99: =IF(ISERROR(VLOOKUP(I99,Sheet3!A:B,2,FALSE)),"",VLOOKUP(I99,Sheet3!A:B,2,FALSE)) -> 暗狱猎犬怪
B100: 610001 | C100: 摆脱眼线 | D100: 0 | E100: =VLOOKUP(B100,Sheet2!A:E,5,FALSE) -> 47 | G100: 47级完成任务 | H100: 请先升到55级 | I100: 133 | J100: =IF(ISERROR(VLOOKUP(I100,Sheet3!A:B,2,FALSE)),"",VLOOKUP(I100,Sheet3!A:B,2,FALSE)) -> 暗狱蜘蛛
A101: 1 | B101: 610002 | C101: 历练 | D101: 0 | E101: 48 | J101: =IF(ISERROR(VLOOKUP(I101,Sheet3!A:B,2,FALSE)),"",VLOOKUP(I101,Sheet3!A:B,2,FALSE)) | K101: 11062
A102: 1 | B102: 610003 | C102: 请教 | D102: 0 | E102: 49 | G102: 动物的卵 | J102: =IF(ISERROR(VLOOKUP(I102,Sheet3!A:B,2,FALSE)),"",VLOOKUP(I102,Sheet3!A:B,2,FALSE)) | K102: 11062
A103: 1 | B103: 610004 | C103: 初步历练 | D103: 0 | E103: 50 | J103: =IF(ISERROR(VLOOKUP(I103,Sheet3!A:B,2,FALSE)),"",VLOOKUP(I103,Sheet3!A:B,2,FALSE)) | K103: 11048
A104: 1 | B104: 610005 | C104: 暗狱盾牌 | D104: 0 | E104: 51 | F104: 白金护手 | I104: 132 | J104: =IF(ISERROR(VLOOKUP(I104,Sheet3!A:B,2,FALSE)),"",VLOOKUP(I104,Sheet3!A:B,2,FALSE)) -> 暗狱猎犬怪 | K104: 11062
A105: 1 | B105: 610006 | C105: 布洛的证明 | D105: 0 | E105: 52 | J105: =IF(ISERROR(VLOOKUP(I105,Sheet3!A:B,2,FALSE)),"",VLOOKUP(I105,Sheet3!A:B,2,FALSE)) | K105: 11048
A106: 1 | B106: 610007 | C106: 二次历练 | D106: 0 | E106: 53 | I106: 133 | J106: =IF(ISERROR(VLOOKUP(I106,Sheet3!A:B,2,FALSE)),"",VLOOKUP(I106,Sheet3!A:B,2,FALSE)) -> 暗狱蜘蛛 | K106: 11062
A107: 1 | B107: 610008 | C107: 回报消息 | D107: 0 | E107: 54 | J107: =IF(ISERROR(VLOOKUP(I107,Sheet3!A:B,2,FALSE)),"",VLOOKUP(I107,Sheet3!A:B,2,FALSE)) | K107: 11062
B108: 620001 | C108: 胆小鬼布洛 | D108: 0 | E108: =VLOOKUP(B108,Sheet2!A:E,5,FALSE) -> 55 | I108: 134 | J108: =IF(ISERROR(VLOOKUP(I108,Sheet3!A:B,2,FALSE)),"",VLOOKUP(I108,Sheet3!A:B,2,FALSE)) -> 傀儡战士
B109: 630001 | C109: 巫师的臂章 | D109: 0 | E109: =VLOOKUP(B109,Sheet2!A:E,5,FALSE) -> 56 | F109: 白金之靴 | G109: 57级完成任务 | H109: 请先升到65级 | I109: 135 | J109: =IF(ISERROR(VLOOKUP(I109,Sheet3!A:B,2,FALSE)),"",VLOOKUP(I109,Sheet3!A:B,2,FALSE)) -> 邪灵巫师
A110: 1 | B110: 630002 | C110: 振作 | D110: 0 | E110: 57 | J110: =IF(ISERROR(VLOOKUP(I110,Sheet3!A:B,2,FALSE)),"",VLOOKUP(I110,Sheet3!A:B,2,FALSE)) | K110: 11048
A111: 1 | B111: 630003 | C111: 傀儡之斧 | D111: 0 | E111: 58 | I111: 134 | J111: =IF(ISERROR(VLOOKUP(I111,Sheet3!A:B,2,FALSE)),"",VLOOKUP(I111,Sheet3!A:B,2,FALSE)) -> 傀儡战士 | K111: 11062
A112: 1 | B112: 630004 | C112: 询问原因 | D112: 0 | E112: 59 | J112: =IF(ISERROR(VLOOKUP(I112,Sheet3!A:B,2,FALSE)),"",VLOOKUP(I112,Sheet3!A:B,2,FALSE)) | K112: 11048
A113: 1 | B113: 630005 | C113: 不灭战魂 | D113: 0 | E113: 60 | G113: 破碎的武器 | J113: =IF(ISERROR(VLOOKUP(I113,Sheet3!A:B,2,FALSE)),"",VLOOKUP(I113,Sheet3!A:B,2,FALSE)) | K113: 11048
A114: 1 | B114: 630006 | C114: 鼓励布洛 | D114: 0 | E114: 61 | J114: =IF(ISERROR(VLOOKUP(I114,Sheet3!A:B,2,FALSE)),"",VLOOKUP(I114,Sheet3!A:B,2,FALSE)) | K114: 11062
A115: 1 | B115: 630007 | C115: 魔杖收藏 | D115: 0 | E115: 62 | I115: 135 | J115: =IF(ISERROR(VLOOKUP(I115,Sheet3!A:B,2,FALSE)),"",VLOOKUP(I115,Sheet3!A:B,2,FALSE)) -> 邪灵巫师 | K115: 11062
A116: 1 | B116: 630008 | C116: 最后的历练 | D116: 0 | E116: 63 | J116: =IF(ISERROR(VLOOKUP(I116,Sheet3!A:B,2,FALSE)),"",VLOOKUP(I116,Sheet3!A:B,2,FALSE)) | K116: 11062
A117: 1 | B117: 630009 | C117: 实力证明 | D117: 0 | E117: 64 | F117: 白金护腿 | I117: 135 | J117: =IF(ISERROR(VLOOKUP(I117,Sheet3!A:B,2,FALSE)),"",VLOOKUP(I117,Sheet3!A:B,2,FALSE)) -> 邪灵巫师 | K117: 11063
B118: 640001 | C118: 臂章的来历 | D118: 0 | E118: =VLOOKUP(B118,Sheet2!A:E,5,FALSE) -> 65 | J118: =IF(ISERROR(VLOOKUP(I118,Sheet3!A:B,2,FALSE)),"",VLOOKUP(I118,Sheet3!A:B,2,FALSE))
B119: 650001 | C119: 继续调查 | D119: 0 | E119: =VLOOKUP(B119,Sheet2!A:E,5,FALSE) -> 66 | I119: 136 | J119: =IF(ISERROR(VLOOKUP(I119,Sheet3!A:B,2,FALSE)),"",VLOOKUP(I119,Sheet3!A:B,2,FALSE)) -> 红镰牛怪
B120: 650002 | C120: 线索 | D120: 0 | E120: =VLOOKUP(B120,Sheet2!A:E,5,FALSE) -> 67 | J120: =IF(ISERROR(VLOOKUP(I120,Sheet3!A:B,2,FALSE)),"",VLOOKUP(I120,Sheet3!A:B,2,FALSE))
B121: 660001 | C121: 皇子 | D121: 0 | E121: =VLOOKUP(B121,Sheet2!A:E,5,FALSE) -> 67 | F121: 白金之盔 | G121: 67级完成任务 | H121: 请先升到77级 | I121: 137 | J121: =IF(ISERROR(VLOOKUP(I121,Sheet3!A:B,2,FALSE)),"",VLOOKUP(I121,Sheet3!A:B,2,FALSE)) -> 暗影骑士
A122: 1 | B122: 660002 | C122: 见面礼 | D122: 0 | E122: 68 | I122: 137 | J122: =IF(ISERROR(VLOOKUP(I122,Sheet3!A:B,2,FALSE)),"",VLOOKUP(I122,Sheet3!A:B,2,FALSE)) -> 暗影骑士 | K122: 11063
B123: 670001 | C123: 魔皇护卫 | D123: 0 | E123: 69 | I123: 138 | J123: =IF(ISERROR(VLOOKUP(I123,Sheet3!A:B,2,FALSE)),"",VLOOKUP(I123,Sheet3!A:B,2,FALSE)) -> 撒拉德
B124: 700001 | C124: [深海之章] | D124: 0 | E124: 70 | J124: =IF(ISERROR(VLOOKUP(I124,Sheet3!A:B,2,FALSE)),"",VLOOKUP(I124,Sheet3!A:B,2,FALSE))
B125: 710001 | C125: 黑暗之石 | D125: 0 | E125: 71 | I125: 147 | J125: =IF(ISERROR(VLOOKUP(I125,Sheet3!A:B,2,FALSE)),"",VLOOKUP(I125,Sheet3!A:B,2,FALSE)) -> 腐海鱼
B126: 720001 | C126: 死亡的气息 | D126: 0 | E126: 72 | I126: 148 | J126: =IF(ISERROR(VLOOKUP(I126,Sheet3!A:B,2,FALSE)),"",VLOOKUP(I126,Sheet3!A:B,2,FALSE)) -> 魅惑人鱼
A127: 1 | B127: 720003 | C127: 欢快交谈 | D127: 0 | E127: 73 | J127: =IF(ISERROR(VLOOKUP(I127,Sheet3!A:B,2,FALSE)),"",VLOOKUP(I127,Sheet3!A:B,2,FALSE)) | K127: 11050
B128: 720002 | C128: 重要消息 | D128: 0 | E128: =VLOOKUP(B128,Sheet2!A:E,5,FALSE) -> 74 | F128: 白金之铠 | I128: 149 | J128: =IF(ISERROR(VLOOKUP(I128,Sheet3!A:B,2,FALSE)),"",VLOOKUP(I128,Sheet3!A:B,2,FALSE)) -> 月海蓝弓
B129: 730001 | C129: 鳞片 | D129: 0 | E129: =VLOOKUP(B129,Sheet2!A:E,5,FALSE) -> 75 | I129: 150 | J129: =IF(ISERROR(VLOOKUP(I129,Sheet3!A:B,2,FALSE)),"",VLOOKUP(I129,Sheet3!A:B,2,FALSE)) -> 巨腐海鱼
A130: 1 | B130: 730002 | C130: 传达爱意 | D130: 0 | E130: 76 | J130: =IF(ISERROR(VLOOKUP(I130,Sheet3!A:B,2,FALSE)),"",VLOOKUP(I130,Sheet3!A:B,2,FALSE)) | K130: 11050
A131: 1 | B131: 730003 | C131: 魅力提升 | D131: 0 | E131: 77 | I131: 148 | J131: =IF(ISERROR(VLOOKUP(I131,Sheet3!A:B,2,FALSE)),"",VLOOKUP(I131,Sheet3!A:B,2,FALSE)) -> 魅惑人鱼 | K131: 11022
A132: 1 | B132: 730004 | C132: 约会 | D132: 0 | E132: 78 | J132: =IF(ISERROR(VLOOKUP(I132,Sheet3!A:B,2,FALSE)),"",VLOOKUP(I132,Sheet3!A:B,2,FALSE)) | K132: 11022
A133: 1 | B133: 730005 | C133: 制作礼物 | D133: 0 | E133: 79 | G133: 一堆鱼皮 | J133: =IF(ISERROR(VLOOKUP(I133,Sheet3!A:B,2,FALSE)),"",VLOOKUP(I133,Sheet3!A:B,2,FALSE)) | K133: 11050
A134: 1 | B134: 730006 | C134: 华丽包装 | D134: 0 | E134: 80 | J134: =IF(ISERROR(VLOOKUP(I134,Sheet3!A:B,2,FALSE)),"",VLOOKUP(I134,Sheet3!A:B,2,FALSE)) | K134: 11050
A135: 1 | B135: 730007 | C135: 留个教训 | D135: 0 | E135: 81 | I135: 149 | J135: =IF(ISERROR(VLOOKUP(I135,Sheet3!A:B,2,FALSE)),"",VLOOKUP(I135,Sheet3!A:B,2,FALSE)) -> 月海蓝弓 | K135: 11017
A136: 1 | B136: 730008 | C136: 传达祝福 | D136: 0 | E136: 82 | J136: =IF(ISERROR(VLOOKUP(I136,Sheet3!A:B,2,FALSE)),"",VLOOKUP(I136,Sheet3!A:B,2,FALSE)) | K136: 11017
A137: 1 | B137: 730009 | C137: 夺回礼物 | D137: 0 | E137: 83 | I137: 149 | J137: =IF(ISERROR(VLOOKUP(I137,Sheet3!A:B,2,FALSE)),"",VLOOKUP(I137,Sheet3!A:B,2,FALSE)) -> 月海蓝弓 | K137: 11050
A138: 1 | B138: 730010 | C138: 参观月海 | D138: 0 | E138: 84 | J138: =IF(ISERROR(VLOOKUP(I138,Sheet3!A:B,2,FALSE)),"",VLOOKUP(I138,Sheet3!A:B,2,FALSE)) | K138: 11050
A139: 1 | B139: 730011 | C139: 爱护环境二 | D139: 0 | E139: 85 | I139: 150 | J139: =IF(ISERROR(VLOOKUP(I139,Sheet3!A:B,2,FALSE)),"",VLOOKUP(I139,Sheet3!A:B,2,FALSE)) -> 巨腐海鱼 | K139: 11051
A140: 1 | B140: 730012 | C140: 有事帮忙 | D140: 0 | E140: 86 | J140: =IF(ISERROR(VLOOKUP(I140,Sheet3!A:B,2,FALSE)),"",VLOOKUP(I140,Sheet3!A:B,2,FALSE)) | K140: 11051
...

Sheet Sheet2
A1: 1 | B1: 召集 | C1: 5 | D1: 11005 | E1: 1
A2: 100 | B2: 卓越掉落 | C2: 12 | D2: 11003 | E2: 1
A3: 101 | B3: 卓越掉落 | C3: 12 | D3: 11003 | E3: 1
A4: 102 | B4: 卓越掉落 | C4: 12 | D4: 11003 | E4: 1
A5: 200 | B5: 祝福掉落（一） | C5: 12 | D5: 11043 | E5: 1
A6: 201 | B6: 祝福掉落（一） | C6: 12 | D6: 11044 | E6: 1
A7: 202 | B7: 祝福掉落（一） | C7: 12 | D7: 11045 | E7: 1
A8: 300 | B8: 坐骑开启 | C8: 12 | D8: 11003 | E8: 16
A9: 500 | B9: 封测补偿 | C9: 15 | D9: 11031 | E9: 1
A10: 1000 | B10: 维伊克的武器 | C10: 4 | D10: 11039 | E10: 50
A11: 2000 | B11: 冰原救急[一] | C11: 7 | D11: 11008 | E11: 1
A12: 2001 | B12: 冰原救急[二] | C12: 7 | D12: 11058 | E12: 1
... A259: 2040000 | B259: 深渊的尽头 | C259: 0 | D259: 11075 | E259: 330

Sheet Sheet3
A1: 101 | B1: 木桩
A2: 1000 | B2: 召唤兽哥布林
A3: 1001 | B3: 召唤兽石巨人
A4: 1002 | B4: 召唤兽暗影者
A5: 1003 | B5: 召唤兽雪人王
A6: 1004 | B6: 召唤兽邪灵骑士
A7: 1005 | B7: 召唤兽巴里
A8: 1006 | B8: 召唤兽魔巨人
A9: 1007 | B9: 火龙
A10: 1008 | B10: 火龙
A11: 1009 | B11: 火龙
A12: 1010 | B12: 火龙
... A626: 11141 | B626: 牛X送礼大使
A627: 11142 | B627: 10
A628: 11143 | B628: 11
A629: 11144 | B629: 12
A630: 11145 | B630: 13
A631: 20000 | B631: 大观园-蛛蛛
A632: 20001 | B632: 大观园-幼龙
A633: 20002 | B633: 大观园-牛头怪
A634: 20003 | B634: 大观园-猎犬怪
A635: 20004 | B635: 大观园-黑巫师
A636: 20005 | B636: 大观园-蛮牛怪
A637: 20006 | B637: 大观园-巨人
A638: 20007 | B638: 大观园-骷髅兵
A639: 20008 | B639: 大观园-强化骷髅兵
A640: 20009 | B640: 大观园-骷髅王
A641: 20010 | B641: 大观园-小哥布林
A642: 20011 | B642: 大观园-勾尾蝎
... A1070: 56099 | B1070: 诅咒之王(史诗)

Sheet Sheet4
A1: 530002 | B1: 对话 | C1: =IF(ISERROR(VLOOKUP(A1,Sheet1!B:C,2,FALSE)),B1,VLOOKUP(A1,Sheet1!B:C,2,FALSE)) -> 乐于助人 | E1: =IF(ISERROR(VLOOKUP(A1,Sheet1!B:K,10,FALSE)),D1,VLOOKUP(A1,Sheet1!B:K,10,FALSE)) -> 11047
A2: 540001 | B2: 采集1 | C2: =IF(ISERROR(VLOOKUP(A2,Sheet1!B:C,2,FALSE)),B2,VLOOKUP(A2,Sheet1!B:C,2,FALSE)) -> 清除毒素 | E2: =IF(ISERROR(VLOOKUP(A2,Sheet1!B:K,10,FALSE)),D2,VLOOKUP(A2,Sheet1!B:K,10,FALSE)) -> 11047
A3: 540002 | B3: 收集物品1 | C3: =IF(ISERROR(VLOOKUP(A3,Sheet1!B:C,2,FALSE)),B3,VLOOKUP(A3,Sheet1!B:C,2,FALSE)) -> 腐虫骸酒 | E3: =IF(ISERROR(VLOOKUP(A3,Sheet1!B:K,10,FALSE)),D3,VLOOKUP(A3,Sheet1!B:K,10,FALSE)) -> 11047
A4: 550001 | B4: 对话 | C4: =IF(ISERROR(VLOOKUP(A4,Sheet1!B:C,2,FALSE)),B4,VLOOKUP(A4,Sheet1!B:C,2,FALSE)) -> 送信 | E4: =IF(ISERROR(VLOOKUP(A4,Sheet1!B:K,10,FALSE)),D4,VLOOKUP(A4,Sheet1!B:K,10,FALSE)) -> 11047
A5: 550002 | B5: 收集物品2 | C5: =IF(ISERROR(VLOOKUP(A5,Sheet1!B:C,2,FALSE)),B5,VLOOKUP(A5,Sheet1!B:C,2,FALSE)) -> 神秘力量一 | E5: =IF(ISERROR(VLOOKUP(A5,Sheet1!B:K,10,FALSE)),D5,VLOOKUP(A5,Sheet1!B:K,10,FALSE)) -> 11060
A6: 501002 | B6: 浮灵的怨念 | C6: =IF(ISERROR(VLOOKUP(A6,Sheet1!B:C,2,FALSE)),B6,VLOOKUP(A6,Sheet1!B:C,2,FALSE)) -> 浮灵的怨念 | D6: 11060 | E6: =IF(ISERROR(VLOOKUP(A6,Sheet1!B:K,10,FALSE)),D6,VLOOKUP(A6,Sheet1!B:K,10,FALSE)) -> 11060
A7: 560001 | B7: 对话 | C7: =IF(ISERROR(VLOOKUP(A7,Sheet1!B:C,2,FALSE)),B7,VLOOKUP(A7,Sheet1!B:C,2,FALSE)) -> 回信 | E7: =IF(ISERROR(VLOOKUP(A7,Sheet1!B:K,10,FALSE)),D7,VLOOKUP(A7,Sheet1!B:K,10,FALSE)) -> 11060
A8: 560002 | B8: 收集物品3 | C8: =IF(ISERROR(VLOOKUP(A8,Sheet1!B:C,2,FALSE)),B8,VLOOKUP(A8,Sheet1!B:C,2,FALSE)) -> 神秘力量二 | E8: =IF(ISERROR(VLOOKUP(A8,Sheet1!B:K,10,FALSE)),D8,VLOOKUP(A8,Sheet1!B:K,10,FALSE)) -> 11047
A9: 570001 | B9: 对话 | C9: =IF(ISERROR(VLOOKUP(A9,Sheet1!B:C,2,FALSE)),B9,VLOOKUP(A9,Sheet1!B:C,2,FALSE)) -> 访问专家 | E9: =IF(ISERROR(VLOOKUP(A9,Sheet1!B:K,10,FALSE)),D9,VLOOKUP(A9,Sheet1!B:K,10,FALSE)) -> 11060
A10: 570002 | B10: 收集物品4 | C10: =IF(ISERROR(VLOOKUP(A10,Sheet1!B:C,2,FALSE)),B10,VLOOKUP(A10,Sheet1!B:C,2,FALSE)) -> 神秘力量三 | E10: =IF(ISERROR(VLOOKUP(A10,Sheet1!B:K,10,FALSE)),D10,VLOOKUP(A10,Sheet1!B:K,10,FALSE)) -> 11061
A11: 580001 | B11: 采集2 | C11: =IF(ISERROR(VLOOKUP(A11,Sheet1!B:C,2,FALSE)),B11,VLOOKUP(A11,Sheet1!B:C,2,FALSE)) -> 采集矿石 | E11: =IF(ISERROR(VLOOKUP(A11,Sheet1!B:K,10,FALSE)),D11,VLOOKUP(A11,Sheet1!B:K,10,FALSE)) -> 11060
A12: 590001 | B12: 对话 | C12: =IF(ISERROR(VLOOKUP(A12,Sheet1!B:C,2,FALSE)),B12,VLOOKUP(A12,Sheet1!B:C,2,FALSE)) -> 矮人之力 | E12: =IF(ISERROR(VLOOKUP(A12,Sheet1!B:K,10,FALSE)),D12,VLOOKUP(A12,Sheet1!B:K,10,FALSE)) -> 11060
A13: 521001 | B13: 回礼 | C13: =IF(ISERROR(VLOOKUP(A13,Sheet1!B:C,2,FALSE)),B13,VLOOKUP(A13,Sheet1!B:C,2,FALSE)) -> 回礼 | D13: 11061 | E13: =IF(ISERROR(VLOOKUP(A13,Sheet1!B:K,10,FALSE)),D13,VLOOKUP(A13,Sheet1!B:K,10,FALSE)) -> 11061
A14: 600002 | B14: 烦人的恶魔 | C14: =IF(ISERROR(VLOOKUP(A14,Sheet1!B:C,2,FALSE)),B14,VLOOKUP(A14,Sheet1!B:C,2,FALSE)) -> 烦人的恶魔 | D14: 11061 | E14: 11061
A15: 610001 | B15: 摆脱眼线 | C15: =IF(ISERROR(VLOOKUP(A15,Sheet1!B:C,2,FALSE)),B15,VLOOKUP(A15,Sheet1!B:C,2,FALSE)) -> 摆脱眼线 | D15: 11048 | E15: 11048
A16: 610002 | B16: 对话 | C16: =IF(ISERROR(VLOOKUP(A16,Sheet1!B:C,2,FALSE)),B16,VLOOKUP(A16,Sheet1!B:C,2,FALSE)) -> 历练 | E16: =IF(ISERROR(VLOOKUP(A16,Sheet1!B:K,10,FALSE)),D16,VLOOKUP(A16,Sheet1!B:K,10,FALSE)) -> 11062
A17: 610003 | B17: 采集3 | C17: =IF(ISERROR(VLOOKUP(A17,Sheet1!B:C,2,FALSE)),B17,VLOOKUP(A17,Sheet1!B:C,2,FALSE)) -> 请教 | E17: =IF(ISERROR(VLOOKUP(A17,Sheet1!B:K,10,FALSE)),D17,VLOOKUP(A17,Sheet1!B:K,10,FALSE)) -> 11062
A18: 610004 | B18: 对话 | C18: =IF(ISERROR(VLOOKUP(A18,Sheet1!B:C,2,FALSE)),B18,VLOOKUP(A18,Sheet1!B:C,2,FALSE)) -> 初步历练 | E18: =IF(ISERROR(VLOOKUP(A18,Sheet1!B:K,10,FALSE)),D18,VLOOKUP(A18,Sheet1!B:K,10,FALSE)) -> 11048
A19: 610005 | B19: 收集物品1 | C19: =IF(ISERROR(VLOOKUP(A19,Sheet1!B:C,2,FALSE)),B19,VLOOKUP(A19,Sheet1!B:C,2,FALSE)) -> 暗狱盾牌 | E19: =IF(ISERROR(VLOOKUP(A19,Sheet1!B:K,10,FALSE)),D19,VLOOKUP(A19,Sheet1!B:K,10,FALSE)) -> 11062
A20: 610006 | B20: 对话 | C20: =IF(ISERROR(VLOOKUP(A20,Sheet1!B:C,2,FALSE)),B20,VLOOKUP(A20,Sheet1!B:C,2,FALSE)) -> 布洛的证明 | E20: =IF(ISERROR(VLOOKUP(A20,Sheet1!B:K,10,FALSE)),D20,VLOOKUP(A20,Sheet1!B:K,10,FALSE)) -> 11048
A21: 610007 | B21: 收集物品2 | C21: =IF(ISERROR(VLOOKUP(A21,Sheet1!B:C,2,FALSE)),B21,VLOOKUP(A21,Sheet1!B:C,2,FALSE)) -> 二次历练 | E21: =IF(ISERROR(VLOOKUP(A21,Sheet1!B:K,10,FALSE)),D21,VLOOKUP(A21,Sheet1!B:K,10,FALSE)) -> 11062
A22: 610008 | B22: 对话 | C22: =IF(ISERROR(VLOOKUP(A22,Sheet1!B:C,2,FALSE)),B22,VLOOKUP(A22,Sheet1!B:C,2,FALSE)) -> 回报消息 | E22: =IF(ISERROR(VLOOKUP(A22,Sheet1!B:K,10,FALSE)),D22,VLOOKUP(A22,Sheet1!B:K,10,FALSE)) -> 11062
A23: 620001 | B23: 胆小鬼布洛 | C23: =IF(ISERROR(VLOOKUP(A23,Sheet1!B:C,2,FALSE)),B23,VLOOKUP(A23,Sheet1!B:C,2,FALSE)) -> 胆小鬼布洛 | D23: 11062 | E23: 11062
A24: 551001 | B24: 剑士迭戈 | C24: =IF(ISERROR(VLOOKUP(A24,Sheet1!B:C,2,FALSE)),B24,VLOOKUP(A24,Sheet1!B:C,2,FALSE)) -> 剑士迭戈 | D24: 11062 | E24: 11062
A25: 630001 | B25: 巫师的臂章 | C25: =IF(ISERROR(VLOOKUP(A25,Sheet1!B:C,2,FALSE)),B25,VLOOKUP(A25,Sheet1!B:C,2,FALSE)) -> 巫师的臂章 | D25: 11062 | E25: 11062
A26: 630002 | B26: 对话 | C26: =IF(ISERROR(VLOOKUP(A26,Sheet1!B:C,2,FALSE)),B26,VLOOKUP(A26,Sheet1!B:C,2,FALSE)) -> 振作 | E26: =IF(ISERROR(VLOOKUP(A26,Sheet1!B:K,10,FALSE)),D26,VLOOKUP(A26,Sheet1!B:K,10,FALSE)) -> 11048
A27: 630003 | B27: 收集物品1 | C27: =IF(ISERROR(VLOOKUP(A27,Sheet1!B:C,2,FALSE)),B27,VLOOKUP(A27,Sheet1!B:C,2,FALSE)) -> 傀儡之斧 | E27: =IF(ISERROR(VLOOKUP(A27,Sheet1!B:K,10,FALSE)),D27,VLOOKUP(A27,Sheet1!B:K,10,FALSE)) -> 11062
A28: 630004 | B28: 对话 | C28: =IF(ISERROR(VLOOKUP(A28,Sheet1!B:C,2,FALSE)),B28,VLOOKUP(A28,Sheet1!B:C,2,FALSE)) -> 询问原因 | E28: =IF(ISERROR(VLOOKUP(A28,Sheet1!B:K,10,FALSE)),D28,VLOOKUP(A28,Sheet1!B:K,10,FALSE)) -> 11048
A29: 630005 | B29: 采集4 | C29: =IF(ISERROR(VLOOKUP(A29,Sheet1!B:C,2,FALSE)),B29,VLOOKUP(A29,Sheet1!B:C,2,FALSE)) -> 不灭战魂 | E29: =IF(ISERROR(VLOOKUP(A29,Sheet1!B:K,10,FALSE)),D29,VLOOKUP(A29,Sheet1!B:K,10,FALSE)) -> 11048
A30: 630006 | B30: 对话 | C30: =IF(ISERROR(VLOOKUP(A30,Sheet1!B:C,2,FALSE)),B30,VLOOKUP(A30,Sheet1!B:C,2,FALSE)) -> 鼓励布洛 | E30: =IF(ISERROR(VLOOKUP(A30,Sheet1!B:K,10,FALSE)),D30,VLOOKUP(A30,Sheet1!B:K,10,FALSE)) -> 11062
A31: 630007 | B31: 收集物品2 | C31: =IF(ISERROR(VLOOKUP(A31,Sheet1!B:C,2,FALSE)),B31,VLOOKUP(A31,Sheet1!B:C,2,FALSE)) -> 魔杖收藏 | E31: =IF(ISERROR(VLOOKUP(A31,Sheet1!B:K,10,FALSE)),D31,VLOOKUP(A31,Sheet1!B:K,10,FALSE)) -> 11062
A32: 630008 | B32: 对话 | C32: =IF(ISERROR(VLOOKUP(A32,Sheet1!B:C,2,FALSE)),B32,VLOOKUP(A32,Sheet1!B:C,2,FALSE)) -> 最后的历练 | E32: =IF(ISERROR(VLOOKUP(A32,Sheet1!B:K,10,FALSE)),D32,VLOOKUP(A32,Sheet1!B:K,10,FALSE)) -> 11062
A33: 630009 | B33: 打怪 | C33: =IF(ISERROR(VLOOKUP(A33,Sheet1!B:C,2,FALSE)),B33,VLOOKUP(A33,Sheet1!B:C,2,FALSE)) -> 实力证明 | E33: =IF(ISERROR(VLOOKUP(A33,Sheet1!B:K,10,FALSE)),D33,VLOOKUP(A33,Sheet1!B:K,10,FALSE)) -> 11063
A34: 640001 | B34: 臂章的来历 | C34: =IF(ISERROR(VLOOKUP(A34,Sheet1!B:C,2,FALSE)),B34,VLOOKUP(A34,Sheet1!B:C,2,FALSE)) -> 臂章的来历 | D34: 11063 | E34: 11063
A35: 650001 | B35: 继续调查 | C35: =IF(ISERROR(VLOOKUP(A35,Sheet1!B:C,2,FALSE)),B35,VLOOKUP(A35,Sheet1!B:C,2,FALSE)) -> 继续调查 | D35: 11063 | E35: 11063
A36: 650002 | B36: 线索 | C36: =IF(ISERROR(VLOOKUP(A36,Sheet1!B:C,2,FALSE)),B36,VLOOKUP(A36,Sheet1!B:C,2,FALSE)) -> 线索 | D36: 11063 | E36: 11063
A37: 660001 | B37: 皇子 | C37: =IF(ISERROR(VLOOKUP(A37,Sheet1!B:C,2,FALSE)),B37,VLOOKUP(A37,Sheet1!B:C,2,FALSE)) -> 皇子 | D37: 11031 | E37: 11031
A38: 660002 | B38: 收集物品 | C38: =IF(ISERROR(VLOOKUP(A38,Sheet1!B:C,2,FALSE)),B38,VLOOKUP(A38,Sheet1!B:C,2,FALSE)) -> 见面礼 | E38: =IF(ISERROR(VLOOKUP(A38,Sheet1!B:K,10,FALSE)),D38,VLOOKUP(A38,Sheet1!B:K,10,FALSE)) -> 11063
A39: 670001 | B39: 魔皇护卫 | C39: =IF(ISERROR(VLOOKUP(A39,Sheet1!B:C,2,FALSE)),B39,VLOOKUP(A39,Sheet1!B:C,2,FALSE)) -> 魔皇护卫 | D39: 11049 | E39: 11049
A40: 700001 | B40: [深海之章] | C40: =IF(ISERROR(VLOOKUP(A40,Sheet1!B:C,2,FALSE)),B40,VLOOKUP(A40,Sheet1!B:C,2,FALSE)) -> [深海之章] | D40: 11031 | E40: 11031
A41: 601004 | B41: 照明灯 | C41: =IF(ISERROR(VLOOKUP(A41,Sheet1!B:C,2,FALSE)),B41,VLOOKUP(A41,Sheet1!B:C,2,FALSE)) -> 照明灯 | D41: 11050 | E41: =IF(ISERROR(VLOOKUP(A41,Sheet1!B:K,10,FALSE)),D41,VLOOKUP(A41,Sheet1!B:K,10,FALSE)) -> 11050
A42: 710001 | B42: 黑暗之石 | C42: =IF(ISERROR(VLOOKUP(A42,Sheet1!B:C,2,FALSE)),B42,VLOOKUP(A42,Sheet1!B:C,2,FALSE)) -> 黑暗之石 | D42: 11050 | E42: 11050
A43: 561001 | B43: 有备无患 | C43: =IF(ISERROR(VLOOKUP(A43,Sheet1!B:C,2,FALSE)),B43,VLOOKUP(A43,Sheet1!B:C,2,FALSE)) -> 有备无患 | D43: 11063 | E43: =IF(ISERROR(VLOOKUP(A43,Sheet1!B:K,10,FALSE)),D43,VLOOKUP(A43,Sheet1!B:K,10,FALSE)) -> 11063
A44: 720001 | B44: 死亡的气息 | C44: =IF(ISERROR(VLOOKUP(A44,Sheet1!B:C,2,FALSE)),B44,VLOOKUP(A44,Sheet1!B:C,2,FALSE)) -> 死亡的气息 | D44: 11050 | E44: 11050
A45: 720003 | B45: 对话 | C45: =IF(ISERROR(VLOOKUP(A45,Sheet1!B:C,2,FALSE)),B45,VLOOKUP(A45,Sheet1!B:C,2,FALSE)) -> 欢快交谈 | E45: =IF(ISERROR(VLOOKUP(A45,Sheet1!B:K,10,FALSE)),D45,VLOOKUP(A45,Sheet1!B:K,10,FALSE)) -> 11050
A46: 720002 | B46: 重要消息 | C46: =IF(ISERROR(VLOOKUP(A46,Sheet1!B:C,2,FALSE)),B46,VLOOKUP(A46,Sheet1!B:C,2,FALSE)) -> 重要消息 | D46: 11050 | E46: 11050
A47: 730001 | B47: 鳞片 | C47: =IF(ISERROR(VLOOKUP(A47,Sheet1!B:C,2,FALSE)),B47,VLOOKUP(A47,Sheet1!B:C,2,FALSE)) -> 鳞片 | D47: 11051 | E47: 11051
A48: 730002 | B48: 对话 | C48: =IF(ISERROR(VLOOKUP(A48,Sheet1!B:C,2,FALSE)),B48,VLOOKUP(A48,Sheet1!B:C,2,FALSE)) -> 传达爱意 | E48: =IF(ISERROR(VLOOKUP(A48,Sheet1!B:K,10,FALSE)),D48,VLOOKUP(A48,Sheet1!B:K,10,FALSE)) -> 11050
A49: 730003 | B49: 收集 | C49: =IF(ISERROR(VLOOKUP(A49,Sheet1!B:C,2,FALSE)),B49,VLOOKUP(A49,Sheet1!B:C,2,FALSE)) -> 魅力提升 | E49: =IF(ISERROR(VLOOKUP(A49,Sheet1!B:K,10,FALSE)),D49,VLOOKUP(A49,Sheet1!B:K,10,FALSE)) -> 11022
A50: 730004 | B50: 对话 | C50: =IF(ISERROR(VLOOKUP(A50,Sheet1!B:C,2,FALSE)),B50,VLOOKUP(A50,Sheet1!B:C,2,FALSE)) -> 约会 | E50: =IF(ISERROR(VLOOKUP(A50,Sheet1!B:K,10,FALSE)),D50,VLOOKUP(A50,Sheet1!B:K,10,FALSE)) -> 11022
A51: 730005 | B51: 采集1 | C51: =IF(ISERROR(VLOOKUP(A51,Sheet1!B:C,2,FALSE)),B51,VLOOKUP(A51,Sheet1!B:C,2,FALSE)) -> 制作礼物 | E51: =IF(ISERROR(VLOOKUP(A51,Sheet1!B:K,10,FALSE)),D51,VLOOKUP(A51,Sheet1!B:K,10,FALSE)) -> 11050
A52: 730006 | B52: 对话 | C52: =IF(ISERROR(VLOOKUP(A52,Sheet1!B:C,2,FALSE)),B52,VLOOKUP(A52,Sheet1!B:C,2,FALSE)) -> 华丽包装 | E52: =IF(ISERROR(VLOOKUP(A52,Sheet1!B:K,10,FALSE)),D52,VLOOKUP(A52,Sheet1!B:K,10,FALSE)) -> 11050
A53: 730007 | B53: 打怪 | C53: =IF(ISERROR(VLOOKUP(A53,Sheet1!B:C,2,FALSE)),B53,VLOOKUP(A53,Sheet1!B:C,2,FALSE)) -> 留个教训 | E53: =IF(ISERROR(VLOOKUP(A53,Sheet1!B:K,10,FALSE)),D53,VLOOKUP(A53,Sheet1!B:K,10,FALSE)) -> 11017
A54: 611002 | B54: 湛蓝之光 | C54: =IF(ISERROR(VLOOKUP(A54,Sheet1!B:C,2,FALSE)),B54,VLOOKUP(A54,Sheet1!B:C,2,FALSE)) -> 湛蓝之光 | D54: 11051 | E54: =IF(ISERROR(VLOOKUP(A54,Sheet1!B:K,10,FALSE)),D54,VLOOKUP(A54,Sheet1!B:K,10,FALSE)) -> 11051
A55: 730008 | B55: 对话 | C55: =IF(ISERROR(VLOOKUP(A55,Sheet1!B:C,2,FALSE)),B55,VLOOKUP(A55,Sheet1!B:C,2,FALSE)) -> 传达祝福 | E55: =IF(ISERROR(VLOOKUP(A55,Sheet1!B:K,10,FALSE)),D55,VLOOKUP(A55,Sheet1!B:K,10,FALSE)) -> 11017
A56: 730009 | B56: 收集1 | C56: =IF(ISERROR(VLOOKUP(A56,Sheet1!B:C,2,FALSE)),B56,VLOOKUP(A56,Sheet1!B:C,2,FALSE)) -> 夺回礼物 | E56: =IF(ISERROR(VLOOKUP(A56,Sheet1!B:K,10,FALSE)),D56,VLOOKUP(A56,Sheet1!B:K,10,FALSE)) -> 11050
A57: 730010 | B57: 对话 | C57: =IF(ISERROR(VLOOKUP(A57,Sheet1!B:C,2,FALSE)),B57,VLOOKUP(A57,Sheet1!B:C,2,FALSE)) -> 参观月海 | E57: =IF(ISERROR(VLOOKUP(A57,Sheet1!B:K,10,FALSE)),D57,VLOOKUP(A57,Sheet1!B:K,10,FALSE)) -> 11050
A58: 730011 | B58: 收集2 | C58: =IF(ISERROR(VLOOKUP(A58,Sheet1!B:C,2,FALSE)),B58,VLOOKUP(A58,Sheet1!B:C,2,FALSE)) -> 爱护环境二 | E58: =IF(ISERROR(VLOOKUP(A58,Sheet1!B:K,10,FALSE)),D58,VLOOKUP(A58,Sheet1!B:K,10,FALSE)) -> 11051
A59: 730012 | B59: 对话 | C59: =IF(ISERROR(VLOOKUP(A59,Sheet1!B:C,2,FALSE)),B59,VLOOKUP(A59,Sheet1!B:C,2,FALSE)) -> 有事帮忙 | E59: =IF(ISERROR(VLOOKUP(A59,Sheet1!B:K,10,FALSE)),D59,VLOOKUP(A59,Sheet1!B:K,10,FALSE)) -> 11051
A60: 730013 | B60: 采集 | C60: =IF(ISERROR(VLOOKUP(A60,Sheet1!B:C,2,FALSE)),B60,VLOOKUP(A60,Sheet1!B:C,2,FALSE)) -> 救人 | E60: =IF(ISERROR(VLOOKUP(A60,Sheet1!B:K,10,FALSE)),D60,VLOOKUP(A60,Sheet1!B:K,10,FALSE)) -> 11012
A61: 740001 | B61: 没落皇族 | C61: =IF(ISERROR(VLOOKUP(A61,Sheet1!B:C,2,FALSE)),B61,VLOOKUP(A61,Sheet1!B:C,2,FALSE)) -> 没落皇族 | D61: 11051 | E61: 11051
A62: 611001 | B62: 躁动 | C62: =IF(ISERROR(VLOOKUP(A62,Sheet1!B:C,2,FALSE)),B62,VLOOKUP(A62,Sheet1!B:C,2,FALSE)) -> 躁动 | D62: 11051 | E62: =IF(ISERROR(VLOOKUP(A62,Sheet1!B:K,10,FALSE)),D62,VLOOKUP(A62,Sheet1!B:K,10,FALSE)) -> 11051
A63: 750002 | B63: 真相 | C63: =IF(ISERROR(VLOOKUP(A63,Sheet1!B:C,2,FALSE)),B63,VLOOKUP(A63,Sheet1!B:C,2,FALSE)) -> 真相 | D63: 11051 | E63: 11051
A64: 750003 | B64: 对话 | C64: =IF(ISERROR(VLOOKUP(A64,Sheet1!B:C,2,FALSE)),B64,VLOOKUP(A64,Sheet1!B:C,2,FALSE)) -> 深入沟通 | E64: =IF(ISERROR(VLOOKUP(A64,Sheet1!B:K,10,FALSE)),D64,VLOOKUP(A64,Sheet1!B:K,10,FALSE)) -> 11051
A65: 750004 | B65: 收集1 | C65: =IF(ISERROR(VLOOKUP(A65,Sheet1!B:C,2,FALSE)),B65,VLOOKUP(A65,Sheet1!B:C,2,FALSE)) -> 爱护环境三 | E65: =IF(ISERROR(VLOOKUP(A65,Sheet1!B:K,10,FALSE)),D65,VLOOKUP(A65,Sheet1!B:K,10,FALSE)) -> 11051
A66: 750005 | B66: 对话 | C66: =IF(ISERROR(VLOOKUP(A66,Sheet1!B:C,2,FALSE)),B66,VLOOKUP(A66,Sheet1!B:C,2,FALSE)) -> 深海试炼 | E66: =IF(ISERROR(VLOOKUP(A66,Sheet1!B:K,10,FALSE)),D66,VLOOKUP(A66,Sheet1!B:K,10,FALSE)) -> 11051
A67: 750006 | B67: 收集2 | C67: =IF(ISERROR(VLOOKUP(A67,Sheet1!B:C,2,FALSE)),B67,VLOOKUP(A67,Sheet1!B:C,2,FALSE)) -> 银鱼之翼 | E67: =IF(ISERROR(VLOOKUP(A67,Sheet1!B:K,10,FALSE)),D67,VLOOKUP(A67,Sheet1!B:K,10,FALSE)) -> 11012
A68: 750007 | B68: 对话 | C68: =IF(ISERROR(VLOOKUP(A68,Sheet1!B:C,2,FALSE)),B68,VLOOKUP(A68,Sheet1!B:C,2,FALSE)) -> 打造武器 | E68: =IF(ISERROR(VLOOKUP(A68,Sheet1!B:K,10,FALSE)),D68,VLOOKUP(A68,Sheet1!B:K,10,FALSE)) -> 11002
A69: 750008 | B69: 采集 | C69: =IF(ISERROR(VLOOKUP(A69,Sheet1!B:C,2,FALSE)),B69,VLOOKUP(A69,Sheet1!B:C,2,FALSE)) -> 深海瑰宝 | E69: =IF(ISERROR(VLOOKUP(A69,Sheet1!B:K,10,FALSE)),D69,VLOOKUP(A69,Sheet1!B:K,10,FALSE)) -> 11000
A70: 621001 | B70: 收藏家 | C70: =IF(ISERROR(VLOOKUP(A70,Sheet1!B:C,2,FALSE)),B70,VLOOKUP(A70,Sheet1!B:C,2,FALSE)) -> 收藏家 | D70: 11051 | E70: =IF(ISERROR(VLOOKUP(A70,Sheet1!B:K,10,FALSE)),D70,VLOOKUP(A70,Sheet1!B:K,10,FALSE)) -> 11051
A71: 750009 | B71: 对话 | C71: =IF(ISERROR(VLOOKUP(A71,Sheet1!B:C,2,FALSE)),B71,VLOOKUP(A71,Sheet1!B:C,2,FALSE)) -> 米莉安的亲吻 | E71: =IF(ISERROR(VLOOKUP(A71,Sheet1!B:K,10,FALSE)),D71,VLOOKUP(A71,Sheet1!B:K,10,FALSE)) -> 11000
A72: 750010 | B72: 打怪 | C72: =IF(ISERROR(VLOOKUP(A72,Sheet1!B:C,2,FALSE)),B72,VLOOKUP(A72,Sheet1!B:C,2,FALSE)) -> 小施手段 | E72: =IF(ISERROR(VLOOKUP(A72,Sheet1!B:K,10,FALSE)),D72,VLOOKUP(A72,Sheet1!B:K,10,FALSE)) -> 11012
A73: 750011 | B73: 对话 | C73: =IF(ISERROR(VLOOKUP(A73,Sheet1!B:C,2,FALSE)),B73,VLOOKUP(A73,Sheet1!B:C,2,FALSE)) -> 月海求助 | E73: =IF(ISERROR(VLOOKUP(A73,Sheet1!B:K,10,FALSE)),D73,VLOOKUP(A73,Sheet1!B:K,10,FALSE)) -> 11012
A74: 750012 | B74: 收集 | C74: =IF(ISERROR(VLOOKUP(A74,Sheet1!B:C,2,FALSE)),B74,VLOOKUP(A74,Sheet1!B:C,2,FALSE)) -> 狂暴巫妖 | E74: =IF(ISERROR(VLOOKUP(A74,Sheet1!B:K,10,FALSE)),D74,VLOOKUP(A74,Sheet1!B:K,10,FALSE)) -> 11051
A75: 750013 | B75: 对话 | C75: =IF(ISERROR(VLOOKUP(A75,Sheet1!B:C,2,FALSE)),B75,VLOOKUP(A75,Sheet1!B:C,2,FALSE)) -> 解除狂暴 | E75: =IF(ISERROR(VLOOKUP(A75,Sheet1!B:K,10,FALSE)),D75,VLOOKUP(A75,Sheet1!B:K,10,FALSE)) -> 11051
A76: 750014 | B76: 打怪 | C76: =IF(ISERROR(VLOOKUP(A76,Sheet1!B:C,2,FALSE)),B76,VLOOKUP(A76,Sheet1!B:C,2,FALSE)) -> 平息狂暴 | E76: =IF(ISERROR(VLOOKUP(A76,Sheet1!B:K,10,FALSE)),D76,VLOOKUP(A76,Sheet1!B:K,10,FALSE)) -> 11031
